BEGIN:VCALENDAR
VERSION:2.0
PRODID:-//Vlaams Netwerk voor Service-Learning in Hoger Onderwijs - ECPv6.15.20//NONSGML v1.0//EN
CALSCALE:GREGORIAN
METHOD:PUBLISH
X-ORIGINAL-URL:https://www.servicelearningvlaanderen.be
X-WR-CALDESC:Evenementen voor Vlaams Netwerk voor Service-Learning in Hoger Onderwijs
REFRESH-INTERVAL;VALUE=DURATION:PT1H
X-Robots-Tag:noindex
X-PUBLISHED-TTL:PT1H
BEGIN:VTIMEZONE
TZID:Europe/Helsinki
BEGIN:DAYLIGHT
TZOFFSETFROM:+0200
TZOFFSETTO:+0300
TZNAME:EEST
DTSTART:20210328T010000
END:DAYLIGHT
BEGIN:STANDARD
TZOFFSETFROM:+0300
TZOFFSETTO:+0200
TZNAME:EET
DTSTART:20211031T010000
END:STANDARD
BEGIN:DAYLIGHT
TZOFFSETFROM:+0200
TZOFFSETTO:+0300
TZNAME:EEST
DTSTART:20220327T010000
END:DAYLIGHT
BEGIN:STANDARD
TZOFFSETFROM:+0300
TZOFFSETTO:+0200
TZNAME:EET
DTSTART:20221030T010000
END:STANDARD
BEGIN:DAYLIGHT
TZOFFSETFROM:+0200
TZOFFSETTO:+0300
TZNAME:EEST
DTSTART:20230326T010000
END:DAYLIGHT
BEGIN:STANDARD
TZOFFSETFROM:+0300
TZOFFSETTO:+0200
TZNAME:EET
DTSTART:20231029T010000
END:STANDARD
END:VTIMEZONE
BEGIN:VEVENT
DTSTART;TZID=Europe/Helsinki:20221125T093000
DTEND;TZID=Europe/Helsinki:20221125T170000
DTSTAMP:20260423T142538
CREATED:20220929T141807Z
LAST-MODIFIED:20250306T133228Z
UID:10000006-1669368600-1669395600@www.servicelearningvlaanderen.be
SUMMARY:Netwerkevent 'Service-Learning in/met de buurt'
DESCRIPTION:Een universiteit of hogeschool is vaak een eilandje op zich. Echter\, de buurt waarin een hogeronderwijsinstelling zich bevindt\, biedt een onuitputtelijke bron van leermogelijkheden voor haar studenten. Hoe kunnen we studenten en buurtbewoners met elkaar in contact brengen? Welke voordelen kunnen beide partijen hieruit halen? Waar zijn kansen? Wat zijn moeilijkheden?  \nHet Vlaams Netwerk voor Service-Learning in het Hoger Onderwijs organiseert jaarlijks een netwerkevenement voor docenten\, onderwijsondersteuners en andere geïnteresseerden om samen na te denken over service-learning in het hoger onderwijs. Tijdens het netwerkevent ‘Service-Learning in/met de buurt‘ richten we onze focus op kansen voor samenwerkingen tussen hogeronderwijsinstellingen en lokale partners. Docenten\, onderwijsondersteuners\, studenten en sociale partners stellen service-learning projecten voor waar verbindingen worden gelegd tussen universiteit of hogeschool met de lokale initiatieven in de buurt van de eigen campussen. We nodigen je uit om samen met ons na te denken hoe we duurzame partnerschappen kunnen creëren tussen het hoger onderwijs en de buurt. \n \n			\n			\n				\n				\n				\n				\n			\n				\n				\n				\n				\n				\n				\n				Bekijk de presentaties\n			\n			\n				\n				\n				\n				\n				\n				Bekijk de foto's\n			\n			\n				\n				\n				\n				\n			\n				\n				\n			\n				\n				\n				\n				\n				\n				\n				\n				\n				\n				\n				\n				\n				\n				\n				\n				\n				\n				\n					\n					\n						Wanneer?\n						25 November 20229.30 – 16.00 uur \n					\n				\n			\n			\n				\n				\n				\n				\n				\n				\n				\n				\n				\n				\n					\n					\n						Waar?\n						Campus Kantienberg ArteveldehogeschoolVoetweg 66\, 9000 Gent \n					\n				\n			\n			\n				\n				\n				\n				\n				\n				\n				\n				\n				\n				\n					j\n					\n						Inschrijven\n						Inschrijvingsgeld: 25 euro.Online inschrijven kan tot vrijdag 18 november 2022. \n					\n				\n			\n			\n				\n				\n				\n				\n			\n				\n				\n			\n				\n				\n				\n				\n				\n				\n				\n				\n				\n				\n				\n				\n				\n				\n				\n				\n				\n				Programma\n			\n			\n				\n				\n				\n				\n			\n				\n				\n				\n				\n				\n				\n				\n				\n				\n				\n				9.00 – 9.30 uur \n			\n			\n				\n				\n				\n				\n				\n				\n				\n				\n				\n				Onthaal met koffie \n			\n			\n				\n				\n				\n				\n			\n				\n				\n				\n				\n				\n				\n				\n				\n				\n				\n				9.30 – 10.30 uur \n			\n			\n				\n				\n				\n				\n				\n				\n				\n				\n				\n				Inleiding  – Nicolas Standaert (KU Leuven) \n			\n				\n				\n				\n				\n				Key note: voorstelling van het stadsproject ‘WIJS Groningen’ \nStudent en samenleving verbinden\, dat is de gedachte achter Wijk Inzet door Jongeren en Studenten. WIJS is een samenwerking tussen Rijksuniversiteit Groningen\, Hanzehogeschool\, Gemeente Groningen en Stichting WIJ Groningen (lokale welzijnsorganisatie). De samenwerking werd 7 jaar geleden opgestart vanuit de nood om studenten meer te betrekken in de buurt. Groningen is een stad met veel studenten\, maar met daarnaast ook een grote armoedeproblematiek. De leefwereld van beide groepen ligt ver uit elkaar en vaak kijken ze eerder wantrouwig naar elkaar. Door studenten en buurtbewoners met elkaar in contact te brengen hoopt de universiteit om studenten en de buurt positiever met elkaar te verbinden. \nDenise Leidelmeijer en Inge Wichgers van de Rijksuniversiteit Groningen lichten de werking\, het ontstaan en de verschillende projecten van WIJS Groningen toe en vertellen over de samenwerking met de lokale partners en hoe een wederzijdse verbinding tussen studenten en de buurtbewoners tot stand kan komen. \n			\n			\n				\n				\n				\n				\n			\n				\n				\n				\n				\n				\n				\n				\n				\n				\n				\n				10.30 – 10.45 uur \n			\n			\n				\n				\n				\n				\n				\n				\n				\n				\n				\n				Pauze \n			\n			\n				\n				\n				\n				\n			\n				\n				\n				\n				\n				\n				\n				\n				\n				\n				\n				10.45 – 12.15 uur \n			\n			\n				\n				\n				\n				\n				\n				\n				\n				\n				\n				Parallelle sessies blok 1\n1.A   Instellingsbreed buurtgericht onderwijs                                                                                           Learning Community – de sprekers stellen hun project voor waarna ze hierover kritisch                              reflecteren met elkaar en het publiek \n\nBuurtcampus voor het vormgeven van instellingsbreed buurtgericht onderwijs                         (Arteveldehogeschool) – Maaike Mottart\nUHasselt als ‘civic’ universiteit (UHasselt) – Franne Schepers\n\n1.B   De buurt betrekken bij de inrichting van openbare ruimte                                                   Presentatie – de sprekers stellen hun project voor en beantwoorden vragen uit het publiek \n\nMaster Stedenbouw & Ruimtelijke Ordening (UA) – Guy Vloebergh\nSociaal-ruimtelijk Sociaal Werk (UGent) – Simon Allemeersch\n\n1.C   Service-learning\, internationalisering & de buurt                                                                   Learning Community – de sprekers stellen hun project voor waarna ze hierover kritisch                              reflecteren met elkaar en het publiek \n\nEducation & Policy Making in an International Perspective (Arteveldehogeschool) –                  Leonore Declercq\, Evelien Barbion & Kimberley Feys\nCommunity Engaged Learning Semester (AP Hogeschool) – Geert Marrin\n\n1.D   Buddy in de buurt                                                                                                                       Presentatie – de sprekers stellen hun project voor en beantwoorden vragen uit het publiek \n\nBuddy @ School (KdG) – Siene Van Hoorick & Aicha Ajhnejh\nJustice Buddies (KdG) – Griet Braeye\n\n1.E   Walkshop ‘Op-stap naar jeugdwerking Watersportbaan’ (Arteveldehogeschool)               An Keppens                                                                                        max. 25 deelnemers \nGa mee op stap met Evelyn (wijkregisseur)\, Silme en Jannes (studenten)\, An (docent en Buurtanker Arteveldehogeschool) en ga samen met hen in gesprek tijdens een wandeling naar de Jeugdwerking Watersportbaan\, een CSL project opgestart vanuit een bachelorproject van studenten Sociaal Werk van de Arteveldehogeschool. \n\nHoe kijk je als wijkregisseur naar een CSL-project in de buurt?\nHoe kan je als docent een CSL-werking in de buurt verduurzamen?\nWat zijn de uitdagingen en leerkansen voor studenten?\nHoe zorgen we dat alle partijen samen aan hun doelstellingen kunnen werken?\n…\n\n \n			\n			\n				\n				\n				\n				\n			\n				\n				\n				\n				\n				\n				\n				\n				\n				\n				\n				12.15 – 13.30 uur \n			\n			\n				\n				\n				\n				\n				\n				\n				\n				\n				\n				Netwerklunch \n			\n			\n				\n				\n				\n				\n			\n				\n				\n				\n				\n				\n				\n				\n				\n				\n				\n				13.30 – 15.00 uur \n			\n			\n				\n				\n				\n				\n				\n				\n				\n				\n				\n				Parallelle sessies blok 2\n2.A   Service-Learning projecten ontwikkelen in/met de buurt                                                     Learning Community – de sprekers stellen hun project voor waarna ze hierover kritisch                              reflecteren met elkaar en het publiek \n\nTeam Thomas: platform voor buurtgerichte uitdagingen (Thomas More) – Filip Burgelman\nVoetbal Kempen Connect (Thomas More & Jeugdsportnet Zuiderkempen) – Marc                         Vanlaer & Jan Cuypers\n\n2.B   Onderwijs en de buurt                                                                                                               Presentatie – de sprekers stellen hun project voor en beantwoorden vragen uit het publiek \n\nOnderwijsproject Street Law (UHasselt) – Stijn Smet\, Niels Appermont & Maaike Wils\nTaalkaravaan (KU Leuven & Stad Leuven) – Tim Huyghe\, Sara Vantournhout &                       Marie-An Knops\nService-Learning in de Educatieve bachelor Lager Onderwijs (Arteveldehogeschool) –            Pieter Demeyer\n\n2.C   Buurtgericht werken in Health Humanities & Sociaal Werk                                                   Learning Community – de sprekers stellen hun project voor waarna ze hierover kritisch                              reflecteren met elkaar en het publiek \n\nLiteratuur & Zorg (UGent) – Jürgen Pieters & Zoë Ghyselinck\nErvaringskennis & service-learning (Odisee) – Mieke Schrooten & Erik Claes\n\n2.D   Service-Learning voor participatieve trajecten in de buurt                                                   Presentatie – de sprekers stellen hun project voor en beantwoorden vragen uit het publiek \n\nObservatorium in en rond de maakleerplek in Leuven (KU Leuven) – Joke Vandenabeele\nLUCA-Upstairs: project parc Reine-Verte (LUCA School of Arts & JST) – Peter                           Vanooteghem\, Erik Roger\, Domitienne Cuvelier & studenten\n\n2.E   Walkshop ‘Op stap in de buurt’: Wandelinterviews als methode om service-                     learning projecten voor te bereiden & uit te bouwen (VUB)                                                 Brecht Van der Schueren                                                             max. 25 deelnemers \nIn deze workshop duiken we samen de stad in en verkennen al wandelend de meerwaarde van … wandelen.  We staan we stil bij wat wetenschappelijke literatuur\, zoomen in op technische vereisten en bespreken een case van VUB\, waarbij wandelingen in Molenbeek gebruikt werden om service-learning partnerschappen voor te bereiden. Samen denken we na hoe en waar wandelmethodes waardevol kunnen zijn in de eigen professionele praktijk. \n \n			\n			\n				\n				\n				\n				\n			\n				\n				\n				\n				\n				\n				\n				\n				\n				\n				\n				15.00 – 16.00 uur \n			\n			\n				\n				\n				\n				\n				\n				\n				\n				\n				\n				Afronding & reflectie \n			\n			\n				\n				\n				\n				\n			\n				\n				\n				\n				\n				\n				\n				\n				\n				\n				\n				16.00 – 17.00 uur \n			\n			\n				\n				\n				\n				\n				\n				\n				\n				\n				\n				Receptie & netwerkmoment \n			\n			\n				\n				\n				\n				\n			\n				\n				\n			\n				\n				\n				\n				\n				\n				\n				\n				\n				\n				\n				\n				\n				\n				Schrijf je in!\n			\n			\n				\n				\n				\n				\n			\n				\n				\n				\n				\n				\n				\n				\n				\n				\n				\n				Sprekers\n			\n			\n				\n				\n				\n				\n			\n				\n				\n				\n				\n				\n				\n				\n				\n				\n				\n				\n				\n					Denise Leidelmeijer\n					\n					Rijksuniversiteit Groningen \nDenise Leidelmeijer is werkzaam bij de Rijksuniversiteit Groningen (RUG) als coördinator wetenschapswinkel onderwijs. Sinds 2020 is zij projectleider WijkInzet door Jongeren en Studenten (WIJS Groningen) vanuit de RUG en als zodanig contactpersoon voor de stad Groningen in de City Deal Kennis Maken (CDKM) en projectleider van het CDKM-project “WIJS de toekomst in”. \n \n					\n				\n			\n				\n				\n				\n				\n				\n				\n					Inge Wichgers\n					\n					Rijksuniversiteit Groningen \nInge Wichgers is PhD bij het GION onderwijs/onderzoek van de Rijksuniversiteit Groningen. Daarnaast werkt zij als docent bij het multilevel en multidisciplinaire onderwijsprogramma van WIJS (WIJSsamen) en is projectmedewerker voor het City Deal Kennis Maken project “WIJS de toekomst in“. \n					\n				\n			\n			\n				\n				\n				\n				\n			\n				\n				\n			\n				\n				\n				\n				\n				\n				\n				\n				\n				\n				\n				\n				\n				\n				\n				\n				\n				\n				Wil je er graag bij zijn?\n\n			\n				\n				\n				\n				\n				Het inschrijvingsgeld bedraagt 25 euro (inclusief lunch & receptie). \nGraag inschrijven voor vrijdag 18 november 2022.  \n			\n			\n				\n				\n				\n				\n				\n				\n				\n				\n				\n				\n					De inschrijvingen lopen nog\n					\n						 \n						Dag(en) \n					\n						: \n					\n						 \n						Uur(s) \n					\n						: \n					\n						 \n						Minute(s) \n					\n						: \n					\n						 \n						Second(s)
URL:https://www.servicelearningvlaanderen.be/event/sl-in-en-met-de-buurt/
LOCATION:Arteveldehogeschool\, campus Kantienberg\, Voetweg 66\, Gent
CATEGORIES:studiedag
ATTACH;FMTTYPE=image/jpeg:https://www.servicelearningvlaanderen.be/wp-content/uploads/2022/09/AdobeStock_440711517-scaled.jpeg
ORGANIZER;CN="UCSIA vzw":MAILTO:info@ucsia.be
END:VEVENT
END:VCALENDAR